BEGIN:VCALENDAR
VERSION:2.0
PRODID:https://www.kufer.de/kuferweb / DE
METHOD:PUBLISH
CALSCALE:GREGORIAN
X-WR-TIMEZONE:Europe/Berlin
BEGIN:VTIMEZONE
TZID:Europe/Berlin
X-LIC-LOCATION:Europe/Berlin
BEGIN:DAYLIGHT
TZOFFSETFROM:+0100
TZOFFSETTO:+0200
TZNAME:CEST
DTSTART:19700329T020000
RRULE:FREQ=YEARLY;INTERVAL=1;BYDAY=-1SU;BYMONTH=3
END:DAYLIGHT
BEGIN:STANDARD
TZOFFSETFROM:+0200
TZOFFSETTO:+0100
TZNAME:CET
DTSTART:19701025T030000
RRULE:FREQ=YEARLY;INTERVAL=1;BYDAY=-1SU;BYMONTH=10
END:STANDARD
END:VTIMEZONE
BEGIN:VEVENT
DTSTAMP:20260423T102412
DTSTART;TZID=Europe/Berlin:20261102T090000
DTEND;TZID=Europe/Berlin:20261102T170000
UID:T8010-EEB-20261102T090000@EFBFRIESLAND-WILHELMSHAVEN
SUMMARY:Qualifizierung Integrative Erziehung und Bildung (T8010-EEB) 
LOCATION:kath. Gemeindehaus Christus König, Posener Straße 45, 26388 Wilhelmshaven
END:VEVENT
BEGIN:VEVENT
DTSTAMP:20260423T102412
DTSTART;TZID=Europe/Berlin:20261103T090000
DTEND;TZID=Europe/Berlin:20261103T170000
UID:T8010-EEB-20261103T090000@EFBFRIESLAND-WILHELMSHAVEN
SUMMARY:Qualifizierung Integrative Erziehung und Bildung (T8010-EEB) 
LOCATION:kath. Gemeindehaus Christus König, Posener Straße 45, 26388 Wilhelmshaven
END:VEVENT
BEGIN:VEVENT
DTSTAMP:20260423T102412
DTSTART;TZID=Europe/Berlin:20261104T090000
DTEND;TZID=Europe/Berlin:20261104T170000
UID:T8010-EEB-20261104T090000@EFBFRIESLAND-WILHELMSHAVEN
SUMMARY:Qualifizierung Integrative Erziehung und Bildung (T8010-EEB) 
LOCATION:kath. Gemeindehaus Christus König, Posener Straße 45, 26388 Wilhelmshaven
END:VEVENT
BEGIN:VEVENT
DTSTAMP:20260423T102412
DTSTART;TZID=Europe/Berlin:20261105T090000
DTEND;TZID=Europe/Berlin:20261105T170000
UID:T8010-EEB-20261105T090000@EFBFRIESLAND-WILHELMSHAVEN
SUMMARY:Qualifizierung Integrative Erziehung und Bildung (T8010-EEB) 
LOCATION:kath. Gemeindehaus Christus König, Posener Straße 45, 26388 Wilhelmshaven
END:VEVENT
BEGIN:VEVENT
DTSTAMP:20260423T102412
DTSTART;TZID=Europe/Berlin:20261106T090000
DTEND;TZID=Europe/Berlin:20261106T170000
UID:T8010-EEB-20261106T090000@EFBFRIESLAND-WILHELMSHAVEN
SUMMARY:Qualifizierung Integrative Erziehung und Bildung (T8010-EEB) 
LOCATION:kath. Gemeindehaus Christus König, Posener Straße 45, 26388 Wilhelmshaven
END:VEVENT
BEGIN:VEVENT
DTSTAMP:20260423T102412
DTSTART;TZID=Europe/Berlin:20261130T090000
DTEND;TZID=Europe/Berlin:20261130T170000
UID:T8010-EEB-20261130T090000@EFBFRIESLAND-WILHELMSHAVEN
SUMMARY:Qualifizierung Integrative Erziehung und Bildung (T8010-EEB) 
LOCATION:noch nicht bekannt
END:VEVENT
BEGIN:VEVENT
DTSTAMP:20260423T102412
DTSTART;TZID=Europe/Berlin:20261201T090000
DTEND;TZID=Europe/Berlin:20261201T170000
UID:T8010-EEB-20261201T090000@EFBFRIESLAND-WILHELMSHAVEN
SUMMARY:Qualifizierung Integrative Erziehung und Bildung (T8010-EEB) 
LOCATION:noch nicht bekannt
END:VEVENT
BEGIN:VEVENT
DTSTAMP:20260423T102412
DTSTART;TZID=Europe/Berlin:20270108T090000
DTEND;TZID=Europe/Berlin:20270108T170000
UID:T8010-EEB-20270108T090000@EFBFRIESLAND-WILHELMSHAVEN
SUMMARY:Qualifizierung Integrative Erziehung und Bildung (T8010-EEB) 
LOCATION:noch nicht bekannt
END:VEVENT
BEGIN:VEVENT
DTSTAMP:20260423T102412
DTSTART;TZID=Europe/Berlin:20270109T090000
DTEND;TZID=Europe/Berlin:20270109T170000
UID:T8010-EEB-20270109T090000@EFBFRIESLAND-WILHELMSHAVEN
SUMMARY:Qualifizierung Integrative Erziehung und Bildung (T8010-EEB) 
LOCATION:noch nicht bekannt
END:VEVENT
BEGIN:VEVENT
DTSTAMP:20260423T102412
DTSTART;TZID=Europe/Berlin:20270205T090000
DTEND;TZID=Europe/Berlin:20270205T170000
UID:T8010-EEB-20270205T090000@EFBFRIESLAND-WILHELMSHAVEN
SUMMARY:Qualifizierung Integrative Erziehung und Bildung (T8010-EEB) 
LOCATION:noch nicht bekannt
END:VEVENT
BEGIN:VEVENT
DTSTAMP:20260423T102412
DTSTART;TZID=Europe/Berlin:20270206T090000
DTEND;TZID=Europe/Berlin:20270206T170000
UID:T8010-EEB-20270206T090000@EFBFRIESLAND-WILHELMSHAVEN
SUMMARY:Qualifizierung Integrative Erziehung und Bildung (T8010-EEB) 
LOCATION:noch nicht bekannt
END:VEVENT
BEGIN:VEVENT
DTSTAMP:20260423T102412
DTSTART;TZID=Europe/Berlin:20270220T090000
DTEND;TZID=Europe/Berlin:20270220T170000
UID:T8010-EEB-20270220T090000@EFBFRIESLAND-WILHELMSHAVEN
SUMMARY:Qualifizierung Integrative Erziehung und Bildung (T8010-EEB) 
LOCATION:noch nicht bekannt
END:VEVENT
BEGIN:VEVENT
DTSTAMP:20260423T102412
DTSTART;TZID=Europe/Berlin:20270301T090000
DTEND;TZID=Europe/Berlin:20270301T170000
UID:T8010-EEB-20270301T090000@EFBFRIESLAND-WILHELMSHAVEN
SUMMARY:Qualifizierung Integrative Erziehung und Bildung (T8010-EEB) 
LOCATION:noch nicht bekannt
END:VEVENT
BEGIN:VEVENT
DTSTAMP:20260423T102412
DTSTART;TZID=Europe/Berlin:20270320T090000
DTEND;TZID=Europe/Berlin:20270320T170000
UID:T8010-EEB-20270320T090000@EFBFRIESLAND-WILHELMSHAVEN
SUMMARY:Qualifizierung Integrative Erziehung und Bildung (T8010-EEB) 
LOCATION:noch nicht bekannt
END:VEVENT
BEGIN:VEVENT
DTSTAMP:20260423T102412
DTSTART;TZID=Europe/Berlin:20270409T090000
DTEND;TZID=Europe/Berlin:20270409T170000
UID:T8010-EEB-20270409T090000@EFBFRIESLAND-WILHELMSHAVEN
SUMMARY:Qualifizierung Integrative Erziehung und Bildung (T8010-EEB) 
LOCATION:noch nicht bekannt
END:VEVENT
BEGIN:VEVENT
DTSTAMP:20260423T102412
DTSTART;TZID=Europe/Berlin:20270410T090000
DTEND;TZID=Europe/Berlin:20270410T170000
UID:T8010-EEB-20270410T090000@EFBFRIESLAND-WILHELMSHAVEN
SUMMARY:Qualifizierung Integrative Erziehung und Bildung (T8010-EEB) 
LOCATION:noch nicht bekannt
END:VEVENT
BEGIN:VEVENT
DTSTAMP:20260423T102412
DTSTART;TZID=Europe/Berlin:20270512T090000
DTEND;TZID=Europe/Berlin:20270512T170000
UID:T8010-EEB-20270512T090000@EFBFRIESLAND-WILHELMSHAVEN
SUMMARY:Qualifizierung Integrative Erziehung und Bildung (T8010-EEB) 
LOCATION:noch nicht bekannt
END:VEVENT
BEGIN:VEVENT
DTSTAMP:20260423T102412
DTSTART;TZID=Europe/Berlin:20270526T090000
DTEND;TZID=Europe/Berlin:20270526T170000
UID:T8010-EEB-20270526T090000@EFBFRIESLAND-WILHELMSHAVEN
SUMMARY:Qualifizierung Integrative Erziehung und Bildung (T8010-EEB) 
LOCATION:noch nicht bekannt
END:VEVENT
BEGIN:VEVENT
DTSTAMP:20260423T102412
DTSTART;TZID=Europe/Berlin:20270601T090000
DTEND;TZID=Europe/Berlin:20270601T170000
UID:T8010-EEB-20270601T090000@EFBFRIESLAND-WILHELMSHAVEN
SUMMARY:Qualifizierung Integrative Erziehung und Bildung (T8010-EEB) 
LOCATION:noch nicht bekannt
END:VEVENT
BEGIN:VEVENT
DTSTAMP:20260423T102412
DTSTART;TZID=Europe/Berlin:20270602T090000
DTEND;TZID=Europe/Berlin:20270602T170000
UID:T8010-EEB-20270602T090000@EFBFRIESLAND-WILHELMSHAVEN
SUMMARY:Qualifizierung Integrative Erziehung und Bildung (T8010-EEB) 
LOCATION:noch nicht bekannt
END:VEVENT
BEGIN:VEVENT
DTSTAMP:20260423T102412
DTSTART;TZID=Europe/Berlin:20270830T090000
DTEND;TZID=Europe/Berlin:20270830T170000
UID:T8010-EEB-20270830T090000@EFBFRIESLAND-WILHELMSHAVEN
SUMMARY:Qualifizierung Integrative Erziehung und Bildung (T8010-EEB) 
LOCATION:noch nicht bekannt
END:VEVENT
BEGIN:VEVENT
DTSTAMP:20260423T102412
DTSTART;TZID=Europe/Berlin:20270831T090000
DTEND;TZID=Europe/Berlin:20270831T170000
UID:T8010-EEB-20270831T090000@EFBFRIESLAND-WILHELMSHAVEN
SUMMARY:Qualifizierung Integrative Erziehung und Bildung (T8010-EEB) 
LOCATION:noch nicht bekannt
END:VEVENT
BEGIN:VEVENT
DTSTAMP:20260423T102412
DTSTART;TZID=Europe/Berlin:20270901T090000
DTEND;TZID=Europe/Berlin:20270901T170000
UID:T8010-EEB-20270901T090000@EFBFRIESLAND-WILHELMSHAVEN
SUMMARY:Qualifizierung Integrative Erziehung und Bildung (T8010-EEB) 
LOCATION:noch nicht bekannt
END:VEVENT
BEGIN:VEVENT
DTSTAMP:20260423T102412
DTSTART;TZID=Europe/Berlin:20270904T090000
DTEND;TZID=Europe/Berlin:20270904T170000
UID:T8010-EEB-20270904T090000@EFBFRIESLAND-WILHELMSHAVEN
SUMMARY:Qualifizierung Integrative Erziehung und Bildung (T8010-EEB) 
LOCATION:noch nicht bekannt
END:VEVENT
BEGIN:VEVENT
DTSTAMP:20260423T102412
DTSTART;TZID=Europe/Berlin:20270906T090000
DTEND;TZID=Europe/Berlin:20270906T170000
UID:T8010-EEB-20270906T090000@EFBFRIESLAND-WILHELMSHAVEN
SUMMARY:Qualifizierung Integrative Erziehung und Bildung (T8010-EEB) 
LOCATION:noch nicht bekannt
END:VEVENT
BEGIN:VEVENT
DTSTAMP:20260423T102412
DTSTART;TZID=Europe/Berlin:20270921T090000
DTEND;TZID=Europe/Berlin:20270921T170000
UID:T8010-EEB-20270921T090000@EFBFRIESLAND-WILHELMSHAVEN
SUMMARY:Qualifizierung Integrative Erziehung und Bildung (T8010-EEB) 
LOCATION:noch nicht bekannt
END:VEVENT
BEGIN:VEVENT
DTSTAMP:20260423T102412
DTSTART;TZID=Europe/Berlin:20271009T090000
DTEND;TZID=Europe/Berlin:20271009T170000
UID:T8010-EEB-20271009T090000@EFBFRIESLAND-WILHELMSHAVEN
SUMMARY:Qualifizierung Integrative Erziehung und Bildung (T8010-EEB) 
LOCATION:noch nicht bekannt
END:VEVENT
BEGIN:VEVENT
DTSTAMP:20260423T102412
DTSTART;TZID=Europe/Berlin:20271016T090000
DTEND;TZID=Europe/Berlin:20271016T170000
UID:T8010-EEB-20271016T090000@EFBFRIESLAND-WILHELMSHAVEN
SUMMARY:Qualifizierung Integrative Erziehung und Bildung (T8010-EEB) 
LOCATION:noch nicht bekannt
END:VEVENT
BEGIN:VEVENT
DTSTAMP:20260423T102412
DTSTART;TZID=Europe/Berlin:20271101T090000
DTEND;TZID=Europe/Berlin:20271101T170000
UID:T8010-EEB-20271101T090000@EFBFRIESLAND-WILHELMSHAVEN
SUMMARY:Qualifizierung Integrative Erziehung und Bildung (T8010-EEB) 
LOCATION:noch nicht bekannt
END:VEVENT
BEGIN:VEVENT
DTSTAMP:20260423T102412
DTSTART;TZID=Europe/Berlin:20271102T090000
DTEND;TZID=Europe/Berlin:20271102T170000
UID:T8010-EEB-20271102T090000@EFBFRIESLAND-WILHELMSHAVEN
SUMMARY:Qualifizierung Integrative Erziehung und Bildung (T8010-EEB) 
LOCATION:noch nicht bekannt
END:VEVENT
BEGIN:VEVENT
DTSTAMP:20260423T102412
DTSTART;TZID=Europe/Berlin:20271103T090000
DTEND;TZID=Europe/Berlin:20271103T170000
UID:T8010-EEB-20271103T090000@EFBFRIESLAND-WILHELMSHAVEN
SUMMARY:Qualifizierung Integrative Erziehung und Bildung (T8010-EEB) 
LOCATION:noch nicht bekannt
END:VEVENT
BEGIN:VEVENT
DTSTAMP:20260423T102412
DTSTART;TZID=Europe/Berlin:20271104T090000
DTEND;TZID=Europe/Berlin:20271104T170000
UID:T8010-EEB-20271104T090000@EFBFRIESLAND-WILHELMSHAVEN
SUMMARY:Qualifizierung Integrative Erziehung und Bildung (T8010-EEB) 
LOCATION:noch nicht bekannt
END:VEVENT
BEGIN:VEVENT
DTSTAMP:20260423T102412
DTSTART;TZID=Europe/Berlin:20271105T090000
DTEND;TZID=Europe/Berlin:20271105T170000
UID:T8010-EEB-20271105T090000@EFBFRIESLAND-WILHELMSHAVEN
SUMMARY:Qualifizierung Integrative Erziehung und Bildung (T8010-EEB) 
LOCATION:noch nicht bekannt
END:VEVENT
BEGIN:VEVENT
DTSTAMP:20260423T102412
DTSTART;TZID=Europe/Berlin:20280127T090000
DTEND;TZID=Europe/Berlin:20280127T170000
UID:T8010-EEB-20280127T090000@EFBFRIESLAND-WILHELMSHAVEN
SUMMARY:Qualifizierung Integrative Erziehung und Bildung (T8010-EEB) 
LOCATION:noch nicht bekannt
END:VEVENT
BEGIN:VEVENT
DTSTAMP:20260423T102412
DTSTART;TZID=Europe/Berlin:20280129T090000
DTEND;TZID=Europe/Berlin:20280129T170000
UID:T8010-EEB-20280129T090000@EFBFRIESLAND-WILHELMSHAVEN
SUMMARY:Qualifizierung Integrative Erziehung und Bildung (T8010-EEB) 
LOCATION:noch nicht bekannt
END:VEVENT
BEGIN:VEVENT
DTSTAMP:20260423T102412
DTSTART;TZID=Europe/Berlin:20280201T090000
DTEND;TZID=Europe/Berlin:20280201T170000
UID:T8010-EEB-20280201T090000@EFBFRIESLAND-WILHELMSHAVEN
SUMMARY:Qualifizierung Integrative Erziehung und Bildung (T8010-EEB) 
LOCATION:Ev. Familien-Bildungsstätte; Raum 7, Feldmark 56, 26389 Wilhelmshaven
END:VEVENT
END:VCALENDAR