BEGIN:VCALENDAR
VERSION:2.0
PRODID:https://www.kufer.de/kuferweb / DE
METHOD:PUBLISH
CALSCALE:GREGORIAN
X-WR-TIMEZONE:Europe/Berlin
BEGIN:VTIMEZONE
TZID:Europe/Berlin
X-LIC-LOCATION:Europe/Berlin
BEGIN:DAYLIGHT
TZOFFSETFROM:+0100
TZOFFSETTO:+0200
TZNAME:CEST
DTSTART:19700329T020000
RRULE:FREQ=YEARLY;INTERVAL=1;BYDAY=-1SU;BYMONTH=3
END:DAYLIGHT
BEGIN:STANDARD
TZOFFSETFROM:+0200
TZOFFSETTO:+0100
TZNAME:CET
DTSTART:19701025T030000
RRULE:FREQ=YEARLY;INTERVAL=1;BYDAY=-1SU;BYMONTH=10
END:STANDARD
END:VTIMEZONE
BEGIN:VEVENT
DTSTAMP:20260423T131252
DTSTART;TZID=Europe/Berlin:20260507T100000
DTEND;TZID=Europe/Berlin:20260507T123000
UID:S7130-20260507T100000@EFBFRIESLAND-WILHELMSHAVEN
SUMMARY:"Hilfe, ich kann gar nicht malen!" (S7130) 
LOCATION:Ev. Familien-Bildungsstätte; Raum 3, Feldmark 56, 26389 Wilhelmshaven
END:VEVENT
BEGIN:VEVENT
DTSTAMP:20260423T131252
DTSTART;TZID=Europe/Berlin:20260521T100000
DTEND;TZID=Europe/Berlin:20260521T123000
UID:S7130-20260521T100000@EFBFRIESLAND-WILHELMSHAVEN
SUMMARY:"Hilfe, ich kann gar nicht malen!" (S7130) 
LOCATION:Ev. Familien-Bildungsstätte; Raum 3, Feldmark 56, 26389 Wilhelmshaven
END:VEVENT
BEGIN:VEVENT
DTSTAMP:20260423T131252
DTSTART;TZID=Europe/Berlin:20260528T100000
DTEND;TZID=Europe/Berlin:20260528T123000
UID:S7130-20260528T100000@EFBFRIESLAND-WILHELMSHAVEN
SUMMARY:"Hilfe, ich kann gar nicht malen!" (S7130) 
LOCATION:Ev. Familien-Bildungsstätte; Raum 3, Feldmark 56, 26389 Wilhelmshaven
END:VEVENT
BEGIN:VEVENT
DTSTAMP:20260423T131252
DTSTART;TZID=Europe/Berlin:20260604T100000
DTEND;TZID=Europe/Berlin:20260604T123000
UID:S7130-20260604T100000@EFBFRIESLAND-WILHELMSHAVEN
SUMMARY:"Hilfe, ich kann gar nicht malen!" (S7130) 
LOCATION:Ev. Familien-Bildungsstätte; Raum 3, Feldmark 56, 26389 Wilhelmshaven
END:VEVENT
END:VCALENDAR