BEGIN:VCALENDAR
VERSION:2.0
PRODID:https://www.kufer.de/kuferweb / DE
METHOD:PUBLISH
CALSCALE:GREGORIAN
X-WR-TIMEZONE:Europe/Berlin
BEGIN:VTIMEZONE
TZID:Europe/Berlin
X-LIC-LOCATION:Europe/Berlin
BEGIN:DAYLIGHT
TZOFFSETFROM:+0100
TZOFFSETTO:+0200
TZNAME:CEST
DTSTART:19700329T020000
RRULE:FREQ=YEARLY;INTERVAL=1;BYDAY=-1SU;BYMONTH=3
END:DAYLIGHT
BEGIN:STANDARD
TZOFFSETFROM:+0200
TZOFFSETTO:+0100
TZNAME:CET
DTSTART:19701025T030000
RRULE:FREQ=YEARLY;INTERVAL=1;BYDAY=-1SU;BYMONTH=10
END:STANDARD
END:VTIMEZONE
BEGIN:VEVENT
DTSTAMP:20260423T160530
DTSTART;TZID=Europe/Berlin:20260530T111500
DTEND;TZID=Europe/Berlin:20260530T131500
UID:S4610-20260530T111500@EFBFRIESLAND-WILHELMSHAVEN
SUMMARY:Meine Kunsthalle – Kids werden kreativ: für Kinder von 6 bis etwa 12 Jahren (S4610) 
LOCATION:Kunsthalle Wilhelmshaven Adalbertstr. 28, WHV, Kunsthalle, Adalbertstraße 28, 26382 Wilhelmshaven
END:VEVENT
BEGIN:VEVENT
DTSTAMP:20260423T160530
DTSTART;TZID=Europe/Berlin:20260606T111500
DTEND;TZID=Europe/Berlin:20260606T131500
UID:S4610-20260606T111500@EFBFRIESLAND-WILHELMSHAVEN
SUMMARY:Meine Kunsthalle – Kids werden kreativ: für Kinder von 6 bis etwa 12 Jahren (S4610) 
LOCATION:Kunsthalle Wilhelmshaven Adalbertstr. 28, WHV, Kunsthalle, Adalbertstraße 28, 26382 Wilhelmshaven
END:VEVENT
BEGIN:VEVENT
DTSTAMP:20260423T160530
DTSTART;TZID=Europe/Berlin:20260613T111500
DTEND;TZID=Europe/Berlin:20260613T131500
UID:S4610-20260613T111500@EFBFRIESLAND-WILHELMSHAVEN
SUMMARY:Meine Kunsthalle – Kids werden kreativ: für Kinder von 6 bis etwa 12 Jahren (S4610) 
LOCATION:Kunsthalle Wilhelmshaven Adalbertstr. 28, WHV, Kunsthalle, Adalbertstraße 28, 26382 Wilhelmshaven
END:VEVENT
BEGIN:VEVENT
DTSTAMP:20260423T160530
DTSTART;TZID=Europe/Berlin:20260620T111500
DTEND;TZID=Europe/Berlin:20260620T131500
UID:S4610-20260620T111500@EFBFRIESLAND-WILHELMSHAVEN
SUMMARY:Meine Kunsthalle – Kids werden kreativ: für Kinder von 6 bis etwa 12 Jahren (S4610) 
LOCATION:Kunsthalle Wilhelmshaven Adalbertstr. 28, WHV, Kunsthalle, Adalbertstraße 28, 26382 Wilhelmshaven
END:VEVENT
END:VCALENDAR